{"text_format":"1","workbook":"xlsx","n_sheets":2,"sheets":["Calculadora","Hoja2"],"not_rendered":{"charts":0,"images":1,"macros":1,"external_links":0,"defined_names":0,"comments":1,"pivot_tables":0},"unopened":[],"bounds":{"document_bytes":16777216,"sheet_cells":100000,"rows_first":2000,"rows_last":500,"rows_between":2000,"halvings":0,"cell_chars":16384,"cell_head_chars":4096},"cells_cut":0,"cells_raw":0,"read":"whole","date_system":"1900"}

{"sheet":"Calculadora","index":0,"n_rows":24,"n_cols":18,"rows_kept":24,"cut":false,"hidden":false,"merged":[]}
[null,null,null,null,null,null,null,null,null,null,{"$f":"NOW()","v":"2017-09-19T17:29:36.420"}]
[null,null,null,null,null,null,null,null,"TOTAL BRUTO MES",{"$f":"SUM(G8:G11)+G16+SUM(J8:J10)+J16+J18","v":0},null,null,null,null,{"$f":"IF(M3=1,1,0)","v":0}]
[null,null,null,null,null,null,null,null,null,null,null,null,2,null,{"$f":"IF(M3=2,1,0)","v":1}]
[null,null,null,null,null,null,null,null,"A COBRAR MES",{"$f":"J2-SUM(J21:J23)","v":0},null,null,17,null,{"$f":"IF(M4<=4,1,0)+IF(M4>4<9,1,0)","v":0}]
[null,"Nº horas semanales"]
[null,null,null,null,null,null,null,null,"TOTAL BRUTO ANUAL (s/product)",{"$f":"13*(SUM(G8:G11)+G16)+12*(SUM(J8:J10)+J12+J16+J18)+O2*(SUM(G8:G11)+G16)+O3*O9*((SUM(G8:G11)+G16))+O3*O9*((SUM(G8:G11)+G16)*4/6)","v":0}]
[]
[null,null,null,null,null,"Sueldo base",{"$f":"Hoja2!S21","v":0},null,null,{"$f":"R8*Hoja2!X21","v":0},null,null,null,null,null,null,false,{"$f":"IF(Q8=TRUE,1,0)","v":0}]
[null,null,null,null,null,"Complemento categoría",{"$f":"Hoja2!T21","v":0},null,null,{"$f":"R9*Hoja2!Y21","v":0},null,null,null,null,{"$f":"IF(M10=1,1,0)","v":1},null,false,{"$f":"IF(Q9=TRUE,1,0)","v":0}]
[null,null,null,null,null,"Complemento convenio",{"$f":"Hoja2!U21","v":0},null,null,{"$f":"R10*Hoja2!Y21","v":0},null,null,1,null,{"$f":"IF(M10=2,1,0)","v":0},null,false,{"$f":"IF(Q10=TRUE,1,0)","v":0}]
[null,null,null,null,null,"Complemento puesto",{"$f":"Hoja2!V21","v":0},null,null,null,null,null,null,null,null,null,null,{"$f":"SUM(R8:R10)","v":0}]
[null,"Nº meses de contrato",null,null,null,null,null,null,null,{"$f":"R13*Hoja2!Z21","v":0}]
[null,null,null,null,{"$f":"IF(M13=1,\"Junio\",\"Dicbre.\")","v":"Junio"},"Paga extra (y adicional)",{"$f":"O2*(O9*SUM(G8:G11)+O10*O13*SUM(G8:G11)+O10*O14*(SUM(G8:G11)*4/6))+O3*(O9*SUM(G8:G11)+O10*O13*SUM(G8:G11)+O10*O14*(SUM(G8:G11)*4/6))","v":0},null,null,null,null,null,1,null,{"$f":"IF(M13=1,1,0)","v":1},null,false,{"$f":"IF(Q13=TRUE,1,0)","v":0}]
[null,null,null,null,null,null,null,null,null,null,null,null,null,null,{"$f":"IF(M13=2,1,0)","v":0}]
[null,null,null,null,null,"Complemento antigüedad",null,null,"Complemento nocturnidad"]
[null,null,null,null,null,"Número de trienios",{"$f":"E16*Hoja2!W21","v":0},null,"Nº horas realizadas",{"$f":"H16*Hoja2!AA21","v":0}]
[null,null,null,null,null,null,null,null,"Complemento trabajo domingos y festivos"]
[null,null,null,null,null,null,null,null,"Nº domingos y festivos trab.",{"$f":"H18*Hoja2!AB21","v":0}]
[]
[]
[null,null,null,null,null,null,null,4.7E-2,"Cont. Comunes S.S.",{"$f":"J6/12*H21","v":0}]
[null,null,null,null,null,null,null,1.6500000000000001E-2,"Desempleo/ Form. Profes.",{"$f":"J6/12*H22","v":0}]
[null,null,null,null,null,null,"RELLENAR",null,"I.R.P.F.",{"$f":"(SUM(G8:G11)+G16+SUM(J8:J10)+J16+J18)*H23","v":0}]
[null,null,null,null,null,null,null,null,"Total descuentos mensuales",{"$f":"SUM(J21:J23)","v":0}]

{"sheet":"Hoja2","index":1,"n_rows":51,"n_cols":28,"rows_kept":51,"cut":false,"hidden":true,"merged":[[2,1,3,1],[2,2,3,2],[2,5,3,5],[33,7,33,8],[37,7,37,8],[2,7,3,7],[2,8,3,8],[2,3,3,3],[2,4,3,4],[37,1,37,2],[24,1,24,2],[29,1,29,2],[33,1,33,2],[33,18,33,19],[37,18,37,19],[24,7,24,8],[29,7,29,8],[45,1,45,2],[45,18,45,19],[41,18,41,19],[24,18,24,19],[29,18,29,19],[41,1,41,2],[41,7,41,8],[45,7,45,8],[2,19,3,19],[1,7,1,11],[1,18,1,22],[2,21,3,21],[2,12,3,12],[2,13,3,13],[2,14,3,14],[2,22,3,22],[2,20,3,20],[2,11,3,11],[2,15,3,15],[2,16,3,16],[2,9,3,9],[2,10,3,10],[2,18,3,18],[2,26,3,26],[2,27,3,27],[2,23,3,23],[2,24,3,24],[2,25,3,25]]}
[]
[null,null,null,null,null,null,null,"IMPORTE CONCEPTOS SEGÚN TIPO DE JORNADA",null,null,null,null,null,null,null,null,null,null,"IMPORTE CONCRETO"]
["RETRIBUCIONES 2017","SUELDO BASE","COMPLEM. CATEG.","COMPLEM. CONVENIO","COMPLEM. PUESTO","TOTAL  MENSUAL",null,"SUELDO BASE","COMPLEM. CATEG.","COMPLEM. CONVENIO","COMPLEM. PUESTO","TRIENIOS","TURNICIDAD","JORNADA TARDE O PARTIDA","PLUS PENOSIDAD…","NOCTURNIDAD","DOMINGOS Y FESTIVOS",null,"SUELDO BASE","COMPLEM. CATEG.","COMPLEM. CONVENIO","COMPLEM. PUESTO","TRIENIOS","TURNICIDAD","JORNADA TARDE O PARTIDA","PLUS PENOSIDAD…","NOCTURNIDAD","DOMINGOS Y FESTIVOS"]
["CATEGORÍA"]
["Psicólogo/a, Pedagogo/a y Médico/a de EOE y Educ. Especial",1125.43,482.88,410.97910000000002,342.41,{"$f":"SUM(B5:E5)","v":2361.6990999999998},null,{"$f":"Calculadora!$O$2*B5+Calculadora!$O$3*(B5*Calculadora!$B$6/35)","v":0},{"$f":"Calculadora!$O$2*C5+Calculadora!$O$3*(C5*Calculadora!$B$6/35)","v":0},{"$f":"Calculadora!$O$2*D5+Calculadora!$O$3*(D5*Calculadora!$B$6/35)","v":0},{"$f":"Calculadora!$O$2*E5+Calculadora!$O$3*(E5*Calculadora!$B$6/35)","v":0},{"$f":"Calculadora!$O$2*$C$26+Calculadora!$O$3*($C$26*Calculadora!$B$6/35)","v":0},{"$f":"Calculadora!$O$2*$C$31+Calculadora!$O$3*($C$31*Calculadora!$B$6/35)","v":0},{"$f":"Calculadora!$O$2*$C$35+Calculadora!$O$3*($C$35*Calculadora!$B$6/35)","v":0},{"$f":"Calculadora!$O$2*$C$47+Calculadora!$O$3*($C$47*Calculadora!$B$6/35)","v":0},{"$f":"Calculadora!$O$2*$C$39+Calculadora!$O$3*($C$39*Calculadora!$B$6/35)","v":0},{"$f":"Calculadora!$O$2*$C$43+Calculadora!$O$3*($C$43*Calculadora!$B$6/35)","v":0},null,{"$f":"IF(Calculadora!$M$4=1,1,0)*H5","v":0},{"$f":"IF(Calculadora!$M$4=1,1,0)*I5","v":0},{"$f":"IF(Calculadora!$M$4=1,1,0)*J5","v":0},{"$f":"IF(Calculadora!$M$4=1,1,0)*K5","v":0},{"$f":"IF(Calculadora!$M$4=1,1,0)*L5","v":0},{"$f":"IF(Calculadora!$M$4=1,1,0)*M5","v":0},{"$f":"IF(Calculadora!$M$4=1,1,0)*N5","v":0},{"$f":"IF(Calculadora!$M$4=1,1,0)*O5","v":0},{"$f":"IF(Calculadora!$M$4=1,1,0)*P5","v":0},{"$f":"IF(Calculadora!$M$4=1,1,0)*Q5","v":0}]
["Director/a",955.14690000000007,425.65,376.19,612.59,{"$f":"SUM(B6:E6)","v":2369.5769},null,{"$f":"Calculadora!$O$2*B6+Calculadora!$O$3*(B6*Calculadora!$B$6/35)","v":0},{"$f":"Calculadora!$O$2*C6+Calculadora!$O$3*(C6*Calculadora!$B$6/35)","v":0},{"$f":"Calculadora!$O$2*D6+Calculadora!$O$3*(D6*Calculadora!$B$6/35)","v":0},{"$f":"Calculadora!$O$2*E6+Calculadora!$O$3*(E6*Calculadora!$B$6/35)","v":0},{"$f":"Calculadora!$O$2*$C$26+Calculadora!$O$3*($C$26*Calculadora!$B$6/35)","v":0},{"$f":"Calculadora!$O$2*$C$31+Calculadora!$O$3*($C$31*Calculadora!$B$6/35)","v":0},{"$f":"Calculadora!$O$2*$C$35+Calculadora!$O$3*($C$35*Calculadora!$B$6/35)","v":0},{"$f":"Calculadora!$O$2*$C$48+Calculadora!$O$3*($C$48*Calculadora!$B$6/35)","v":0},{"$f":"Calculadora!$O$2*$C$39+Calculadora!$O$3*($C$39*Calculadora!$B$6/35)","v":0},{"$f":"Calculadora!$O$2*$C$43+Calculadora!$O$3*($C$43*Calculadora!$B$6/35)","v":0},null,{"$f":"IF(Calculadora!$M$4=2,1,0)*H6","v":0},{"$f":"IF(Calculadora!$M$4=2,1,0)*I6","v":0},{"$f":"IF(Calculadora!$M$4=2,1,0)*J6","v":0},{"$f":"IF(Calculadora!$M$4=2,1,0)*K6","v":0},{"$f":"IF(Calculadora!$M$4=2,1,0)*L6","v":0},{"$f":"IF(Calculadora!$M$4=2,1,0)*M6","v":0},{"$f":"IF(Calculadora!$M$4=2,1,0)*N6","v":0},{"$f":"IF(Calculadora!$M$4=2,1,0)*O6","v":0},{"$f":"IF(Calculadora!$M$4=2,1,0)*P6","v":0},{"$f":"IF(Calculadora!$M$4=2,1,0)*Q6","v":0}]
["Fisioterapeuta",955.14690000000007,425.65,376.19,321.37,2078.3569000000002,null,{"$f":"Calculadora!$O$2*B7+Calculadora!$O$3*(B7*Calculadora!$B$6/35)","v":0},{"$f":"Calculadora!$O$2*C7+Calculadora!$O$3*(C7*Calculadora!$B$6/35)","v":0},{"$f":"Calculadora!$O$2*D7+Calculadora!$O$3*(D7*Calculadora!$B$6/35)","v":0},{"$f":"Calculadora!$O$2*E7+Calculadora!$O$3*(E7*Calculadora!$B$6/35)","v":0},{"$f":"Calculadora!$O$2*$C$26+Calculadora!$O$3*($C$26*Calculadora!$B$6/35)","v":0},{"$f":"Calculadora!$O$2*$C$31+Calculadora!$O$3*($C$31*Calculadora!$B$6/35)","v":0},{"$f":"Calculadora!$O$2*$C$35+Calculadora!$O$3*($C$35*Calculadora!$B$6/35)","v":0},{"$f":"Calculadora!$O$2*$C$48+Calculadora!$O$3*($C$48*Calculadora!$B$6/35)","v":0},{"$f":"Calculadora!$O$2*$C$39+Calculadora!$O$3*($C$39*Calculadora!$B$6/35)","v":0},{"$f":"Calculadora!$O$2*$C$43+Calculadora!$O$3*($C$43*Calculadora!$B$6/35)","v":0},null,{"$f":"IF(Calculadora!$M$4=3,1,0)*H7","v":0},{"$f":"IF(Calculadora!$M$4=3,1,0)*I7","v":0},{"$f":"IF(Calculadora!$M$4=3,1,0)*J7","v":0},{"$f":"IF(Calculadora!$M$4=3,1,0)*K7","v":0},{"$f":"IF(Calculadora!$M$4=3,1,0)*L7","v":0},{"$f":"IF(Calculadora!$M$4=3,1,0)*M7","v":0},{"$f":"IF(Calculadora!$M$4=3,1,0)*N7","v":0},{"$f":"IF(Calculadora!$M$4=3,1,0)*O7","v":0},{"$f":"IF(Calculadora!$M$4=3,1,0)*P7","v":0},{"$f":"IF(Calculadora!$M$4=3,1,0)*Q7","v":0}]
["Educador/a y Trabajador/a Social",955.14690000000007,425.65,376.19,246.87,2003.8569000000002,null,{"$f":"Calculadora!$O$2*B8+Calculadora!$O$3*(B8*Calculadora!$B$6/35)","v":0},{"$f":"Calculadora!$O$2*C8+Calculadora!$O$3*(C8*Calculadora!$B$6/35)","v":0},{"$f":"Calculadora!$O$2*D8+Calculadora!$O$3*(D8*Calculadora!$B$6/35)","v":0},{"$f":"Calculadora!$O$2*E8+Calculadora!$O$3*(E8*Calculadora!$B$6/35)","v":0},{"$f":"Calculadora!$O$2*$C$26+Calculadora!$O$3*($C$26*Calculadora!$B$6/35)","v":0},{"$f":"Calculadora!$O$2*$C$31+Calculadora!$O$3*($C$31*Calculadora!$B$6/35)","v":0},{"$f":"Calculadora!$O$2*$C$35+Calculadora!$O$3*($C$35*Calculadora!$B$6/35)","v":0},{"$f":"Calculadora!$O$2*$C$48+Calculadora!$O$3*($C$48*Calculadora!$B$6/35)","v":0},{"$f":"Calculadora!$O$2*$C$39+Calculadora!$O$3*($C$39*Calculadora!$B$6/35)","v":0},{"$f":"Calculadora!$O$2*$C$43+Calculadora!$O$3*($C$43*Calculadora!$B$6/35)","v":0},null,{"$f":"IF(Calculadora!$M$4=4,1,0)*H8","v":0},{"$f":"IF(Calculadora!$M$4=4,1,0)*I8","v":0},{"$f":"IF(Calculadora!$M$4=4,1,0)*J8","v":0},{"$f":"IF(Calculadora!$M$4=4,1,0)*K8","v":0},{"$f":"IF(Calculadora!$M$4=4,1,0)*L8","v":0},{"$f":"IF(Calculadora!$M$4=4,1,0)*M8","v":0},{"$f":"IF(Calculadora!$M$4=4,1,0)*N8","v":0},{"$f":"IF(Calculadora!$M$4=4,1,0)*O8","v":0},{"$f":"IF(Calculadora!$M$4=4,1,0)*P8","v":0},{"$f":"IF(Calculadora!$M$4=4,1,0)*Q8","v":0}]
["Educador/a infantil",955.14690000000007,425.65,376.19,222.92,1979.9069000000002,null,{"$f":"Calculadora!$O$2*B9+Calculadora!$O$3*(B9*Calculadora!$B$6/35)","v":0},{"$f":"Calculadora!$O$2*C9+Calculadora!$O$3*(C9*Calculadora!$B$6/35)","v":0},{"$f":"Calculadora!$O$2*D9+Calculadora!$O$3*(D9*Calculadora!$B$6/35)","v":0},{"$f":"Calculadora!$O$2*E9+Calculadora!$O$3*(E9*Calculadora!$B$6/35)","v":0},{"$f":"Calculadora!$O$2*$C$26+Calculadora!$O$3*($C$26*Calculadora!$B$6/35)","v":0},{"$f":"Calculadora!$O$2*$C$31+Calculadora!$O$3*($C$31*Calculadora!$B$6/35)","v":0},{"$f":"Calculadora!$O$2*$C$35+Calculadora!$O$3*($C$35*Calculadora!$B$6/35)","v":0},{"$f":"Calculadora!$O$2*$C$48+Calculadora!$O$3*($C$48*Calculadora!$B$6/35)","v":0},{"$f":"Calculadora!$O$2*$C$39+Calculadora!$O$3*($C$39*Calculadora!$B$6/35)","v":0},{"$f":"Calculadora!$O$2*$C$43+Calculadora!$O$3*($C$43*Calculadora!$B$6/35)","v":0},null,{"$f":"IF(Calculadora!$M$4=5,1,0)*H9","v":0},{"$f":"IF(Calculadora!$M$4=5,1,0)*I9","v":0},{"$f":"IF(Calculadora!$M$4=5,1,0)*J9","v":0},{"$f":"IF(Calculadora!$M$4=5,1,0)*K9","v":0},{"$f":"IF(Calculadora!$M$4=5,1,0)*L9","v":0},{"$f":"IF(Calculadora!$M$4=5,1,0)*M9","v":0},{"$f":"IF(Calculadora!$M$4=5,1,0)*N9","v":0},{"$f":"IF(Calculadora!$M$4=5,1,0)*O9","v":0},{"$f":"IF(Calculadora!$M$4=5,1,0)*P9","v":0},{"$f":"IF(Calculadora!$M$4=5,1,0)*Q9","v":0}]
["Monitor/a de Residencias Escolares y Monitor/a Escolar",712.00960000000009,402.72739999999999,258.34789999999998,208.31,1581.3949,null,{"$f":"Calculadora!$O$2*B10+Calculadora!$O$3*(B10*Calculadora!$B$6/35)","v":0},{"$f":"Calculadora!$O$2*C10+Calculadora!$O$3*(C10*Calculadora!$B$6/35)","v":0},{"$f":"Calculadora!$O$2*D10+Calculadora!$O$3*(D10*Calculadora!$B$6/35)","v":0},{"$f":"Calculadora!$O$2*E10+Calculadora!$O$3*(E10*Calculadora!$B$6/35)","v":0},{"$f":"Calculadora!$O$2*$C$27+Calculadora!$O$3*($C$27*Calculadora!$B$6/35)","v":0},{"$f":"Calculadora!$O$2*$C$32+Calculadora!$O$3*($C$32*Calculadora!$B$6/35)","v":0},{"$f":"Calculadora!$O$2*$C$36+Calculadora!$O$3*($C$36*Calculadora!$B$6/35)","v":0},{"$f":"Calculadora!$O$2*$C$49+Calculadora!$O$3*($C$49*Calculadora!$B$6/35)","v":0},{"$f":"Calculadora!$O$2*$C$40+Calculadora!$O$3*($C$40*Calculadora!$B$6/35)","v":0},{"$f":"Calculadora!$O$2*$C$44+Calculadora!$O$3*($C$44*Calculadora!$B$6/35)","v":0},null,{"$f":"IF(Calculadora!$M$4=6,1,0)*H10","v":0},{"$f":"IF(Calculadora!$M$4=6,1,0)*I10","v":0},{"$f":"IF(Calculadora!$M$4=6,1,0)*J10","v":0},{"$f":"IF(Calculadora!$M$4=6,1,0)*K10","v":0},{"$f":"IF(Calculadora!$M$4=6,1,0)*L10","v":0},{"$f":"IF(Calculadora!$M$4=6,1,0)*M10","v":0},{"$f":"IF(Calculadora!$M$4=6,1,0)*N10","v":0},{"$f":"IF(Calculadora!$M$4=6,1,0)*O10","v":0},{"$f":"IF(Calculadora!$M$4=6,1,0)*P10","v":0},{"$f":"IF(Calculadora!$M$4=6,1,0)*Q10","v":0}]
["Monitor/a de Educación Especial",712.00960000000009,402.72739999999999,258.34789999999998,231.95,1605.0349000000001,null,{"$f":"Calculadora!$O$2*B11+Calculadora!$O$3*(B11*Calculadora!$B$6/35)","v":0},{"$f":"Calculadora!$O$2*C11+Calculadora!$O$3*(C11*Calculadora!$B$6/35)","v":0},{"$f":"Calculadora!$O$2*D11+Calculadora!$O$3*(D11*Calculadora!$B$6/35)","v":0},{"$f":"Calculadora!$O$2*E11+Calculadora!$O$3*(E11*Calculadora!$B$6/35)","v":0},{"$f":"Calculadora!$O$2*$C$27+Calculadora!$O$3*($C$27*Calculadora!$B$6/35)","v":0},{"$f":"Calculadora!$O$2*$C$32+Calculadora!$O$3*($C$32*Calculadora!$B$6/35)","v":0},{"$f":"Calculadora!$O$2*$C$36+Calculadora!$O$3*($C$36*Calculadora!$B$6/35)","v":0},{"$f":"Calculadora!$O$2*$C$49+Calculadora!$O$3*($C$49*Calculadora!$B$6/35)","v":0},{"$f":"Calculadora!$O$2*$C$40+Calculadora!$O$3*($C$40*Calculadora!$B$6/35)","v":0},{"$f":"Calculadora!$O$2*$C$44+Calculadora!$O$3*($C$44*Calculadora!$B$6/35)","v":0},null,{"$f":"IF(Calculadora!$M$4=7,1,0)*H11","v":0},{"$f":"IF(Calculadora!$M$4=7,1,0)*I11","v":0},{"$f":"IF(Calculadora!$M$4=7,1,0)*J11","v":0},{"$f":"IF(Calculadora!$M$4=7,1,0)*K11","v":0},{"$f":"IF(Calculadora!$M$4=7,1,0)*L11","v":0},{"$f":"IF(Calculadora!$M$4=7,1,0)*M11","v":0},{"$f":"IF(Calculadora!$M$4=7,1,0)*N11","v":0},{"$f":"IF(Calculadora!$M$4=7,1,0)*O11","v":0},{"$f":"IF(Calculadora!$M$4=7,1,0)*P11","v":0},{"$f":"IF(Calculadora!$M$4=7,1,0)*Q11","v":0}]
["Técnico/a Superior Educación Infantil",712.00960000000009,402.72739999999999,258.34789999999998,222.81,1595.8949,null,{"$f":"Calculadora!$O$2*B12+Calculadora!$O$3*(B12*Calculadora!$B$6/35)","v":0},{"$f":"Calculadora!$O$2*C12+Calculadora!$O$3*(C12*Calculadora!$B$6/35)","v":0},{"$f":"Calculadora!$O$2*D12+Calculadora!$O$3*(D12*Calculadora!$B$6/35)","v":0},{"$f":"Calculadora!$O$2*E12+Calculadora!$O$3*(E12*Calculadora!$B$6/35)","v":0},{"$f":"Calculadora!$O$2*$C$27+Calculadora!$O$3*($C$27*Calculadora!$B$6/35)","v":0},{"$f":"Calculadora!$O$2*$C$32+Calculadora!$O$3*($C$32*Calculadora!$B$6/35)","v":0},{"$f":"Calculadora!$O$2*$C$36+Calculadora!$O$3*($C$36*Calculadora!$B$6/35)","v":0},{"$f":"Calculadora!$O$2*$C$49+Calculadora!$O$3*($C$49*Calculadora!$B$6/35)","v":0},{"$f":"Calculadora!$O$2*$C$40+Calculadora!$O$3*($C$40*Calculadora!$B$6/35)","v":0},{"$f":"Calculadora!$O$2*$C$44+Calculadora!$O$3*($C$44*Calculadora!$B$6/35)","v":0},null,{"$f":"IF(Calculadora!$M$4=8,1,0)*H12","v":0},{"$f":"IF(Calculadora!$M$4=8,1,0)*I12","v":0},{"$f":"IF(Calculadora!$M$4=8,1,0)*J12","v":0},{"$f":"IF(Calculadora!$M$4=8,1,0)*K12","v":0},{"$f":"IF(Calculadora!$M$4=8,1,0)*L12","v":0},{"$f":"IF(Calculadora!$M$4=8,1,0)*M12","v":0},{"$f":"IF(Calculadora!$M$4=8,1,0)*N12","v":0},{"$f":"IF(Calculadora!$M$4=8,1,0)*O12","v":0},{"$f":"IF(Calculadora!$M$4=8,1,0)*P12","v":0},{"$f":"IF(Calculadora!$M$4=8,1,0)*Q12","v":0}]
["Monitor/a Centros de Menores",712.00960000000009,402.72739999999999,258.34789999999998,231.95,1605.0349000000001,null,{"$f":"Calculadora!$O$2*B13+Calculadora!$O$3*(B13*Calculadora!$B$6/35)","v":0},{"$f":"Calculadora!$O$2*C13+Calculadora!$O$3*(C13*Calculadora!$B$6/35)","v":0},{"$f":"Calculadora!$O$2*D13+Calculadora!$O$3*(D13*Calculadora!$B$6/35)","v":0},{"$f":"Calculadora!$O$2*E13+Calculadora!$O$3*(E13*Calculadora!$B$6/35)","v":0},{"$f":"Calculadora!$O$2*$C$27+Calculadora!$O$3*($C$27*Calculadora!$B$6/35)","v":0},{"$f":"Calculadora!$O$2*$C$32+Calculadora!$O$3*($C$32*Calculadora!$B$6/35)","v":0},{"$f":"Calculadora!$O$2*$C$36+Calculadora!$O$3*($C$36*Calculadora!$B$6/35)","v":0},{"$f":"Calculadora!$O$2*$C$49+Calculadora!$O$3*($C$49*Calculadora!$B$6/35)","v":0},{"$f":"Calculadora!$O$2*$C$40+Calculadora!$O$3*($C$40*Calculadora!$B$6/35)","v":0},{"$f":"Calculadora!$O$2*$C$44+Calculadora!$O$3*($C$44*Calculadora!$B$6/35)","v":0},null,{"$f":"IF(Calculadora!$M$4=9,1,0)*H13","v":0},{"$f":"IF(Calculadora!$M$4=9,1,0)*I13","v":0},{"$f":"IF(Calculadora!$M$4=9,1,0)*J13","v":0},{"$f":"IF(Calculadora!$M$4=9,1,0)*K13","v":0},{"$f":"IF(Calculadora!$M$4=9,1,0)*L13","v":0},{"$f":"IF(Calculadora!$M$4=9,1,0)*M13","v":0},{"$f":"IF(Calculadora!$M$4=9,1,0)*N13","v":0},{"$f":"IF(Calculadora!$M$4=9,1,0)*O13","v":0},{"$f":"IF(Calculadora!$M$4=9,1,0)*P13","v":0},{"$f":"IF(Calculadora!$M$4=9,1,0)*Q13","v":0}]
["Oficial 1ª Cocinero",712.00960000000009,402.72739999999999,258.34789999999998,218.42,1591.5049000000001,null,{"$f":"Calculadora!$O$2*B14+Calculadora!$O$3*(B14*Calculadora!$B$6/35)","v":0},{"$f":"Calculadora!$O$2*C14+Calculadora!$O$3*(C14*Calculadora!$B$6/35)","v":0},{"$f":"Calculadora!$O$2*D14+Calculadora!$O$3*(D14*Calculadora!$B$6/35)","v":0},{"$f":"Calculadora!$O$2*E14+Calculadora!$O$3*(E14*Calculadora!$B$6/35)","v":0},{"$f":"Calculadora!$O$2*$C$27+Calculadora!$O$3*($C$27*Calculadora!$B$6/35)","v":0},{"$f":"Calculadora!$O$2*$C$32+Calculadora!$O$3*($C$32*Calculadora!$B$6/35)","v":0},{"$f":"Calculadora!$O$2*$C$36+Calculadora!$O$3*($C$36*Calculadora!$B$6/35)","v":0},{"$f":"Calculadora!$O$2*$C$49+Calculadora!$O$3*($C$49*Calculadora!$B$6/35)","v":0},{"$f":"Calculadora!$O$2*$C$40+Calculadora!$O$3*($C$40*Calculadora!$B$6/35)","v":0},{"$f":"Calculadora!$O$2*$C$44+Calculadora!$O$3*($C$44*Calculadora!$B$6/35)","v":0},null,{"$f":"IF(Calculadora!$M$4=10,1,0)*H14","v":0},{"$f":"IF(Calculadora!$M$4=10,1,0)*I14","v":0},{"$f":"IF(Calculadora!$M$4=10,1,0)*J14","v":0},{"$f":"IF(Calculadora!$M$4=10,1,0)*K14","v":0},{"$f":"IF(Calculadora!$M$4=10,1,0)*L14","v":0},{"$f":"IF(Calculadora!$M$4=10,1,0)*M14","v":0},{"$f":"IF(Calculadora!$M$4=10,1,0)*N14","v":0},{"$f":"IF(Calculadora!$M$4=10,1,0)*O14","v":0},{"$f":"IF(Calculadora!$M$4=10,1,0)*P14","v":0},{"$f":"IF(Calculadora!$M$4=10,1,0)*Q14","v":0}]
["Oficial 2ª Oficios",582.20000000000005,334.02720000000005,214.04930000000002,183.73,1314.0065,null,{"$f":"Calculadora!$O$2*B15+Calculadora!$O$3*(B15*Calculadora!$B$6/35)","v":0},{"$f":"Calculadora!$O$2*C15+Calculadora!$O$3*(C15*Calculadora!$B$6/35)","v":0},{"$f":"Calculadora!$O$2*D15+Calculadora!$O$3*(D15*Calculadora!$B$6/35)","v":0},{"$f":"Calculadora!$O$2*E15+Calculadora!$O$3*(E15*Calculadora!$B$6/35)","v":0},{"$f":"Calculadora!$O$2*$C$28+Calculadora!$O$3*($C$28*Calculadora!$B$6/35)","v":0},{"$f":"Calculadora!$O$2*$C$32+Calculadora!$O$3*($C$32*Calculadora!$B$6/35)","v":0},{"$f":"Calculadora!$O$2*$C$36+Calculadora!$O$3*($C$36*Calculadora!$B$6/35)","v":0},{"$f":"Calculadora!$O$2*$C$50+Calculadora!$O$3*($C$50*Calculadora!$B$6/35)","v":0},{"$f":"Calculadora!$O$2*$C$40+Calculadora!$O$3*($C$40*Calculadora!$B$6/35)","v":0},{"$f":"Calculadora!$O$2*$C$44+Calculadora!$O$3*($C$44*Calculadora!$B$6/35)","v":0},null,{"$f":"IF(Calculadora!$M$4=11,1,0)*H15","v":0},{"$f":"IF(Calculadora!$M$4=11,1,0)*I15","v":0},{"$f":"IF(Calculadora!$M$4=11,1,0)*J15","v":0},{"$f":"IF(Calculadora!$M$4=11,1,0)*K15","v":0},{"$f":"IF(Calculadora!$M$4=11,1,0)*L15","v":0},{"$f":"IF(Calculadora!$M$4=11,1,0)*M15","v":0},{"$f":"IF(Calculadora!$M$4=11,1,0)*N15","v":0},{"$f":"IF(Calculadora!$M$4=11,1,0)*O15","v":0},{"$f":"IF(Calculadora!$M$4=11,1,0)*P15","v":0},{"$f":"IF(Calculadora!$M$4=11,1,0)*Q15","v":0}]
["Cocinero/a",582.20000000000005,334.02720000000005,214.04930000000002,178.89,1309.1664999999998,null,{"$f":"Calculadora!$O$2*B16+Calculadora!$O$3*(B16*Calculadora!$B$6/35)","v":0},{"$f":"Calculadora!$O$2*C16+Calculadora!$O$3*(C16*Calculadora!$B$6/35)","v":0},{"$f":"Calculadora!$O$2*D16+Calculadora!$O$3*(D16*Calculadora!$B$6/35)","v":0},{"$f":"Calculadora!$O$2*E16+Calculadora!$O$3*(E16*Calculadora!$B$6/35)","v":0},{"$f":"Calculadora!$O$2*$C$28+Calculadora!$O$3*($C$28*Calculadora!$B$6/35)","v":0},{"$f":"Calculadora!$O$2*$C$32+Calculadora!$O$3*($C$32*Calculadora!$B$6/35)","v":0},{"$f":"Calculadora!$O$2*$C$36+Calculadora!$O$3*($C$36*Calculadora!$B$6/35)","v":0},{"$f":"Calculadora!$O$2*$C$50+Calculadora!$O$3*($C$50*Calculadora!$B$6/35)","v":0},{"$f":"Calculadora!$O$2*$C$40+Calculadora!$O$3*($C$40*Calculadora!$B$6/35)","v":0},{"$f":"Calculadora!$O$2*$C$44+Calculadora!$O$3*($C$44*Calculadora!$B$6/35)","v":0},null,{"$f":"IF(Calculadora!$M$4=12,1,0)*H16","v":0},{"$f":"IF(Calculadora!$M$4=12,1,0)*I16","v":0},{"$f":"IF(Calculadora!$M$4=12,1,0)*J16","v":0},{"$f":"IF(Calculadora!$M$4=12,1,0)*K16","v":0},{"$f":"IF(Calculadora!$M$4=12,1,0)*L16","v":0},{"$f":"IF(Calculadora!$M$4=12,1,0)*M16","v":0},{"$f":"IF(Calculadora!$M$4=12,1,0)*N16","v":0},{"$f":"IF(Calculadora!$M$4=12,1,0)*O16","v":0},{"$f":"IF(Calculadora!$M$4=12,1,0)*P16","v":0},{"$f":"IF(Calculadora!$M$4=12,1,0)*Q16","v":0}]
["Auxiliar Administrativo (ptos L)",582.20000000000005,334.02720000000005,214.04930000000002,214.46,1344.7365,null,{"$f":"Calculadora!$O$2*B17+Calculadora!$O$3*(B17*Calculadora!$B$6/35)","v":0},{"$f":"Calculadora!$O$2*C17+Calculadora!$O$3*(C17*Calculadora!$B$6/35)","v":0},{"$f":"Calculadora!$O$2*D17+Calculadora!$O$3*(D17*Calculadora!$B$6/35)","v":0},{"$f":"Calculadora!$O$2*E17+Calculadora!$O$3*(E17*Calculadora!$B$6/35)","v":0},{"$f":"Calculadora!$O$2*$C$28+Calculadora!$O$3*($C$28*Calculadora!$B$6/35)","v":0},{"$f":"Calculadora!$O$2*$C$32+Calculadora!$O$3*($C$32*Calculadora!$B$6/35)","v":0},{"$f":"Calculadora!$O$2*$C$36+Calculadora!$O$3*($C$36*Calculadora!$B$6/35)","v":0},{"$f":"Calculadora!$O$2*$C$50+Calculadora!$O$3*($C$50*Calculadora!$B$6/35)","v":0},{"$f":"Calculadora!$O$2*$C$40+Calculadora!$O$3*($C$40*Calculadora!$B$6/35)","v":0},{"$f":"Calculadora!$O$2*$C$44+Calculadora!$O$3*($C$44*Calculadora!$B$6/35)","v":0},null,{"$f":"IF(Calculadora!$M$4=13,1,0)*H17","v":0},{"$f":"IF(Calculadora!$M$4=13,1,0)*I17","v":0},{"$f":"IF(Calculadora!$M$4=13,1,0)*J17","v":0},{"$f":"IF(Calculadora!$M$4=13,1,0)*K17","v":0},{"$f":"IF(Calculadora!$M$4=13,1,0)*L17","v":0},{"$f":"IF(Calculadora!$M$4=13,1,0)*M17","v":0},{"$f":"IF(Calculadora!$M$4=13,1,0)*N17","v":0},{"$f":"IF(Calculadora!$M$4=13,1,0)*O17","v":0},{"$f":"IF(Calculadora!$M$4=13,1,0)*P17","v":0},{"$f":"IF(Calculadora!$M$4=13,1,0)*Q17","v":0}]
["Vigilante",531.54,311.16000000000003,197.19,171.15,1211.0400000000002,null,{"$f":"Calculadora!$O$2*B18+Calculadora!$O$3*(B18*Calculadora!$B$6/35)","v":0},{"$f":"Calculadora!$O$2*C18+Calculadora!$O$3*(C18*Calculadora!$B$6/35)","v":0},{"$f":"Calculadora!$O$2*D18+Calculadora!$O$3*(D18*Calculadora!$B$6/35)","v":0},{"$f":"Calculadora!$O$2*E18+Calculadora!$O$3*(E18*Calculadora!$B$6/35)","v":0},{"$f":"Calculadora!$O$2*$C$28+Calculadora!$O$3*($C$28*Calculadora!$B$6/35)","v":0},{"$f":"Calculadora!$O$2*$C$32+Calculadora!$O$3*($C$32*Calculadora!$B$6/35)","v":0},{"$f":"Calculadora!$O$2*$C$36+Calculadora!$O$3*($C$36*Calculadora!$B$6/35)","v":0},{"$f":"Calculadora!$O$2*$C$51+Calculadora!$O$3*($C$51*Calculadora!$B$6/35)","v":0},{"$f":"Calculadora!$O$2*$C$40+Calculadora!$O$3*($C$40*Calculadora!$B$6/35)","v":0},{"$f":"Calculadora!$O$2*$C$44+Calculadora!$O$3*($C$44*Calculadora!$B$6/35)","v":0},null,{"$f":"IF(Calculadora!$M$4=14,1,0)*H18","v":0},{"$f":"IF(Calculadora!$M$4=14,1,0)*I18","v":0},{"$f":"IF(Calculadora!$M$4=14,1,0)*J18","v":0},{"$f":"IF(Calculadora!$M$4=14,1,0)*K18","v":0},{"$f":"IF(Calculadora!$M$4=14,1,0)*L18","v":0},{"$f":"IF(Calculadora!$M$4=14,1,0)*M18","v":0},{"$f":"IF(Calculadora!$M$4=14,1,0)*N18","v":0},{"$f":"IF(Calculadora!$M$4=14,1,0)*O18","v":0},{"$f":"IF(Calculadora!$M$4=14,1,0)*P18","v":0},{"$f":"IF(Calculadora!$M$4=14,1,0)*Q18","v":0}]
["Ayudante de Cocina y PSD",531.54,311.16000000000003,197.19,167.25,1207.1400000000001,null,{"$f":"Calculadora!$O$2*B19+Calculadora!$O$3*(B19*Calculadora!$B$6/35)","v":0},{"$f":"Calculadora!$O$2*C19+Calculadora!$O$3*(C19*Calculadora!$B$6/35)","v":0},{"$f":"Calculadora!$O$2*D19+Calculadora!$O$3*(D19*Calculadora!$B$6/35)","v":0},{"$f":"Calculadora!$O$2*E19+Calculadora!$O$3*(E19*Calculadora!$B$6/35)","v":0},{"$f":"Calculadora!$O$2*$C$28+Calculadora!$O$3*($C$28*Calculadora!$B$6/35)","v":0},{"$f":"Calculadora!$O$2*$C$32+Calculadora!$O$3*($C$32*Calculadora!$B$6/35)","v":0},{"$f":"Calculadora!$O$2*$C$36+Calculadora!$O$3*($C$36*Calculadora!$B$6/35)","v":0},{"$f":"Calculadora!$O$2*$C$51+Calculadora!$O$3*($C$51*Calculadora!$B$6/35)","v":0},{"$f":"Calculadora!$O$2*$C$40+Calculadora!$O$3*($C$40*Calculadora!$B$6/35)","v":0},{"$f":"Calculadora!$O$2*$C$44+Calculadora!$O$3*($C$44*Calculadora!$B$6/35)","v":0},null,{"$f":"IF(Calculadora!$M$4=15,1,0)*H19","v":0},{"$f":"IF(Calculadora!$M$4=15,1,0)*I19","v":0},{"$f":"IF(Calculadora!$M$4=15,1,0)*J19","v":0},{"$f":"IF(Calculadora!$M$4=15,1,0)*K19","v":0},{"$f":"IF(Calculadora!$M$4=15,1,0)*L19","v":0},{"$f":"IF(Calculadora!$M$4=15,1,0)*M19","v":0},{"$f":"IF(Calculadora!$M$4=15,1,0)*N19","v":0},{"$f":"IF(Calculadora!$M$4=15,1,0)*O19","v":0},{"$f":"IF(Calculadora!$M$4=15,1,0)*P19","v":0},{"$f":"IF(Calculadora!$M$4=15,1,0)*Q19","v":0}]
["Ordenanza, limpiador/a",531.54,311.16000000000003,197.19,152.31,1192.2,null,{"$f":"Calculadora!$O$2*B20+Calculadora!$O$3*(B20*Calculadora!$B$6/35)","v":0},{"$f":"Calculadora!$O$2*C20+Calculadora!$O$3*(C20*Calculadora!$B$6/35)","v":0},{"$f":"Calculadora!$O$2*D20+Calculadora!$O$3*(D20*Calculadora!$B$6/35)","v":0},{"$f":"Calculadora!$O$2*E20+Calculadora!$O$3*(E20*Calculadora!$B$6/35)","v":0},{"$f":"Calculadora!$O$2*$C$28+Calculadora!$O$3*($C$28*Calculadora!$B$6/35)","v":0},{"$f":"Calculadora!$O$2*$C$32+Calculadora!$O$3*($C$32*Calculadora!$B$6/35)","v":0},{"$f":"Calculadora!$O$2*$C$36+Calculadora!$O$3*($C$36*Calculadora!$B$6/35)","v":0},{"$f":"Calculadora!$O$2*$C$51+Calculadora!$O$3*($C$51*Calculadora!$B$6/35)","v":0},{"$f":"Calculadora!$O$2*$C$40+Calculadora!$O$3*($C$40*Calculadora!$B$6/35)","v":0},{"$f":"Calculadora!$O$2*$C$44+Calculadora!$O$3*($C$44*Calculadora!$B$6/35)","v":0},null,{"$f":"IF(Calculadora!$M$4=16,1,0)*H20","v":0},{"$f":"IF(Calculadora!$M$4=16,1,0)*I20","v":0},{"$f":"IF(Calculadora!$M$4=16,1,0)*J20","v":0},{"$f":"IF(Calculadora!$M$4=16,1,0)*K20","v":0},{"$f":"IF(Calculadora!$M$4=16,1,0)*L20","v":0},{"$f":"IF(Calculadora!$M$4=16,1,0)*M20","v":0},{"$f":"IF(Calculadora!$M$4=16,1,0)*N20","v":0},{"$f":"IF(Calculadora!$M$4=16,1,0)*O20","v":0},{"$f":"IF(Calculadora!$M$4=16,1,0)*P20","v":0},{"$f":"IF(Calculadora!$M$4=16,1,0)*Q20","v":0}]
["(vacía)",null,null,null,null,null,null,null,null,null,null,null,null,null,null,null,null,null,{"$f":"SUM(S5:S20)","v":0},0,0,0,0,0,0,0,0,0]
[]
[]
[]
[null,"TRIENIOS",null,null,null,null,null,"TRIENIOS",null,null,null,null,null,null,null,null,null,null,"TRIENIOS"]
[null,"I-II",48.065900000000006,null,null,null,null,"I-II",{"$f":"Calculadora!$O$2*C26+Calculadora!$O$3*(C26*Calculadora!$B$6/37.5)","v":0},null,null,null,null,null,null,null,null,null,"I-II"]
[null,"III",33.2896,null,null,null,null,"III",{"$f":"Calculadora!$O$2*C27+Calculadora!$O$3*(C27*Calculadora!$B$6/37.5)","v":0},null,null,null,null,null,null,null,null,null,"III"]
[null,"IV-V",28.53,null,null,null,null,"IV-V",{"$f":"Calculadora!$O$2*C28+Calculadora!$O$3*(C28*Calculadora!$B$6/37.5)","v":0},null,null,null,null,null,null,null,null,null,"IV-V"]
[]
[null,"JORNADA A TURNOS",null,null,null,null,null,"JORNADA A TURNOS",null,null,null,null,null,null,null,null,null,null,"JORNADA A TURNOS"]
[null,"I - II",253.08580000000001,null,null,null,null,"I - II",{"$f":"Calculadora!$O$2*C31+Calculadora!$O$3*(C31*Calculadora!$B$6/37.5)","v":0},null,null,null,null,null,null,null,null,null,"I - II"]
[null,"III - IV - V",163.78,null,null,null,null,"III - IV - V",{"$f":"Calculadora!$O$2*C32+Calculadora!$O$3*(C32*Calculadora!$B$6/37.5)","v":0},null,null,null,null,null,null,null,null,null,"III - IV - V"]
[]
[null,"JORN. TARDE / PARTIDA",null,null,null,null,null,"JORN. TARDE / PARTIDA",null,null,null,null,null,null,null,null,null,null,"JORN. TARDE / PARTIDA"]
[null,"I - II",75.959999999999994,null,null,null,null,"I - II",{"$f":"Calculadora!$O$2*C35+Calculadora!$O$3*(C35*Calculadora!$B$6/37.5)","v":0},null,null,null,null,null,null,null,null,null,"I - II"]
[null,"III - IV - V",49.176899999999996,null,null,null,null,"III - IV - V",{"$f":"Calculadora!$O$2*C36+Calculadora!$O$3*(C36*Calculadora!$B$6/37.5)","v":0},null,null,null,null,null,null,null,null,null,"III - IV - V"]
[]
[null,"TRABAJOS NOCTURNOS",null,null,null,null,null,"TRABAJOS NOCTURNOS",null,null,null,null,null,null,null,null,null,null,"TRABAJOS NOCTURNOS"]
[null,"I - II",5.17,null,null,null,null,"I - II",5.101,null,null,null,null,null,null,null,null,null,"I - II"]
[null,"III - IV - V",4.16,null,null,null,null,"III - IV - V",4.101,null,null,null,null,null,null,null,null,null,"III - IV - V"]
[]
[null,"DOMINGOS Y FESTIVOS",null,null,null,null,null,"DOMINGOS Y FESTIVOS",null,null,null,null,null,null,null,null,null,null,"DOMINGOS Y FESTIVOS"]
[null,"I - II",31.057500000000001,null,null,null,null,"I - II",{"$f":"Calculadora!$O$2*C43+Calculadora!$O$3*(C43*Calculadora!$B$6/37.5)","v":0},null,null,null,null,null,null,null,null,null,"I - II"]
[null,"III - IV - V",24.856099999999998,null,null,null,null,"III - IV - V",{"$f":"Calculadora!$O$2*C44+Calculadora!$O$3*(C44*Calculadora!$B$6/37.5)","v":0},null,null,null,null,null,null,null,null,null,"III - IV - V"]
[]
[null,"PLUSES PENOSIDAD, …",null,null,null,null,null,"PLUSES PENOSIDAD, …",null,null,null,null,null,null,null,null,null,null,"PLUSES PENOSIDAD, …"]
[null,"I",225.08860000000001,null,null,null,null,"I",{"$f":"Calculadora!$O$2*C47+Calculadora!$O$3*(C47*Calculadora!$B$6/37.5)","v":0},null,null,null,null,null,null,null,null,null,"I"]
[null,"II",191.05,null,null,null,null,"II",{"$f":"Calculadora!$O$2*C48+Calculadora!$O$3*(C48*Calculadora!$B$6/37.5)","v":0},null,null,null,null,null,null,null,null,null,"II"]
[null,"III",142.41,null,null,null,null,"III",{"$f":"Calculadora!$O$2*C49+Calculadora!$O$3*(C49*Calculadora!$B$6/37.5)","v":0},null,null,null,null,null,null,null,null,null,"III"]
[null,"IV",116.46,null,null,null,null,"IV",{"$f":"Calculadora!$O$2*C50+Calculadora!$O$3*(C50*Calculadora!$B$6/37.5)","v":0},null,null,null,null,null,null,null,null,null,"IV"]
[null,"V",106.32,null,null,null,null,"V",{"$f":"Calculadora!$O$2*C51+Calculadora!$O$3*(C51*Calculadora!$B$6/37.5)","v":0},null,null,null,null,null,null,null,null,null,"V"]